BEGIN:VCALENDAR
VERSION:2.0
PRODID:-//St Marys Orthodox Syrian Church - ECPv6.15.3//NONSGML v1.0//EN
CALSCALE:GREGORIAN
METHOD:PUBLISH
X-ORIGINAL-URL:https://www.stmarysoschyd.com
X-WR-CALDESC:Events for St Marys Orthodox Syrian Church
REFRESH-INTERVAL;VALUE=DURATION:PT1H
X-Robots-Tag:noindex
X-PUBLISHED-TTL:PT1H
BEGIN:VTIMEZONE
TZID:Asia/Kolkata
BEGIN:STANDARD
TZOFFSETFROM:+0530
TZOFFSETTO:+0530
TZNAME:IST
DTSTART:20230101T000000
END:STANDARD
END:VTIMEZONE
BEGIN:VEVENT
DTSTART;VALUE=DATE:20231231
DTEND;VALUE=DATE:20240101
DTSTAMP:20260423T201352
CREATED:20230717T023234Z
LAST-MODIFIED:20230717T023234Z
UID:1768-1703980800-1704067199@www.stmarysoschyd.com
SUMMARY:1st Sunday After Feast of Nativity
DESCRIPTION:
URL:https://www.stmarysoschyd.com/event/1st-sunday-after-feast-of-nativity/
END:VEVENT
BEGIN:VEVENT
DTSTART;VALUE=DATE:20231227
DTEND;VALUE=DATE:20231228
DTSTAMP:20260423T201352
CREATED:20230717T023201Z
LAST-MODIFIED:20230717T023201Z
UID:1766-1703635200-1703721599@www.stmarysoschyd.com
SUMMARY:Feast of the Infant Martyrs
DESCRIPTION:
URL:https://www.stmarysoschyd.com/event/feast-of-the-infant-martyrs/
END:VEVENT
BEGIN:VEVENT
DTSTART;VALUE=DATE:20231226
DTEND;VALUE=DATE:20231227
DTSTAMP:20260423T201352
CREATED:20230717T023136Z
LAST-MODIFIED:20230717T023136Z
UID:1764-1703548800-1703635199@www.stmarysoschyd.com
SUMMARY:Glorification of the Mother of God
DESCRIPTION:
URL:https://www.stmarysoschyd.com/event/glorification-of-the-mother-of-god/
END:VEVENT
BEGIN:VEVENT
DTSTART;VALUE=DATE:20231225
DTEND;VALUE=DATE:20231226
DTSTAMP:20260423T201352
CREATED:20230717T023108Z
LAST-MODIFIED:20230717T023108Z
UID:1762-1703462400-1703548799@www.stmarysoschyd.com
SUMMARY:Feast of the Nativity of our Lord
DESCRIPTION:
URL:https://www.stmarysoschyd.com/event/feast-of-the-nativity-of-our-lord/
END:VEVENT
BEGIN:VEVENT
DTSTART;VALUE=DATE:20231224
DTEND;VALUE=DATE:20231225
DTSTAMP:20260423T201352
CREATED:20230717T023032Z
LAST-MODIFIED:20230717T023032Z
UID:1760-1703376000-1703462399@www.stmarysoschyd.com
SUMMARY:Sunday before the Feast of Nativity
DESCRIPTION:
URL:https://www.stmarysoschyd.com/event/sunday-before-the-feast-of-nativity/
END:VEVENT
BEGIN:VEVENT
DTSTART;VALUE=DATE:20231217
DTEND;VALUE=DATE:20231218
DTSTAMP:20260423T201352
CREATED:20230717T022947Z
LAST-MODIFIED:20230717T022947Z
UID:1758-1702771200-1702857599@www.stmarysoschyd.com
SUMMARY:Memorial of H.H.Moran Mar Baselios Geevarghese I
DESCRIPTION:
URL:https://www.stmarysoschyd.com/event/memorial-of-h-h-moran-mar-baselios-geevarghese-i/
END:VEVENT
BEGIN:VEVENT
DTSTART;VALUE=DATE:20231217
DTEND;VALUE=DATE:20231218
DTSTAMP:20260423T201352
CREATED:20230717T022859Z
LAST-MODIFIED:20230717T022859Z
UID:1756-1702771200-1702857599@www.stmarysoschyd.com
SUMMARY:Revelation to St.Joseph
DESCRIPTION:
URL:https://www.stmarysoschyd.com/event/revelation-to-st-joseph/
END:VEVENT
BEGIN:VEVENT
DTSTART;VALUE=DATE:20231210
DTEND;VALUE=DATE:20231211
DTSTAMP:20260423T201352
CREATED:20230717T022811Z
LAST-MODIFIED:20230717T022811Z
UID:1754-1702166400-1702252799@www.stmarysoschyd.com
SUMMARY:Feast of Sts.Behnam\, Sarah\, and the 40 Martyrs
DESCRIPTION:
URL:https://www.stmarysoschyd.com/event/feast-of-sts-behnam-sarah-and-the-40-martyrs/
END:VEVENT
BEGIN:VEVENT
DTSTART;VALUE=DATE:20231210
DTEND;VALUE=DATE:20231211
DTSTAMP:20260423T201352
CREATED:20230717T022726Z
LAST-MODIFIED:20230717T022726Z
UID:1752-1702166400-1702252799@www.stmarysoschyd.com
SUMMARY:Nativity of St.John the Baptist
DESCRIPTION:
URL:https://www.stmarysoschyd.com/event/nativity-of-st-john-the-baptist/
END:VEVENT
BEGIN:VEVENT
DTSTART;VALUE=DATE:20231203
DTEND;VALUE=DATE:20231204
DTSTAMP:20260423T201352
CREATED:20230717T022648Z
LAST-MODIFIED:20230717T022648Z
UID:1750-1701561600-1701647999@www.stmarysoschyd.com
SUMMARY:Visitation of Mary to Elizabeth
DESCRIPTION:
URL:https://www.stmarysoschyd.com/event/visitation-of-mary-to-elizabeth/
END:VEVENT
BEGIN:VEVENT
DTSTART;VALUE=DATE:20231201
DTEND;VALUE=DATE:20231225
DTSTAMP:20260423T201352
CREATED:20230717T022545Z
LAST-MODIFIED:20230717T022545Z
UID:1748-1701388800-1703462399@www.stmarysoschyd.com
SUMMARY:Nativity Fast
DESCRIPTION:
URL:https://www.stmarysoschyd.com/event/nativity-fast/
END:VEVENT
BEGIN:VEVENT
DTSTART;VALUE=DATE:20231126
DTEND;VALUE=DATE:20231127
DTSTAMP:20260423T201352
CREATED:20230717T022343Z
LAST-MODIFIED:20230717T022343Z
UID:1746-1700956800-1701043199@www.stmarysoschyd.com
SUMMARY:Annunciation to the Theotokos
DESCRIPTION:
URL:https://www.stmarysoschyd.com/event/annunciation-to-the-theotokos/
END:VEVENT
BEGIN:VEVENT
DTSTART;VALUE=DATE:20231119
DTEND;VALUE=DATE:20231120
DTSTAMP:20260423T201352
CREATED:20230717T022255Z
LAST-MODIFIED:20230717T022255Z
UID:1744-1700352000-1700438399@www.stmarysoschyd.com
SUMMARY:Annunciation to Zachariah
DESCRIPTION:
URL:https://www.stmarysoschyd.com/event/annunciation-to-zachariah/
END:VEVENT
BEGIN:VEVENT
DTSTART;VALUE=DATE:20231113
DTEND;VALUE=DATE:20231114
DTSTAMP:20260423T201352
CREATED:20230717T022208Z
LAST-MODIFIED:20230717T022208Z
UID:1742-1699833600-1699919999@www.stmarysoschyd.com
SUMMARY:Feast of St.John Chrysostom
DESCRIPTION:
URL:https://www.stmarysoschyd.com/event/feast-of-st-john-chrysostom/
END:VEVENT
BEGIN:VEVENT
DTSTART;VALUE=DATE:20231113
DTEND;VALUE=DATE:20231114
DTSTAMP:20260423T201352
CREATED:20230717T022137Z
LAST-MODIFIED:20230717T022137Z
UID:1740-1699833600-1699919999@www.stmarysoschyd.com
SUMMARY:Fasting Day
DESCRIPTION:
URL:https://www.stmarysoschyd.com/event/fasting-day-2/
END:VEVENT
BEGIN:VEVENT
DTSTART;VALUE=DATE:20231112
DTEND;VALUE=DATE:20231113
DTSTAMP:20260423T201352
CREATED:20230717T022109Z
LAST-MODIFIED:20230717T022109Z
UID:1738-1699747200-1699833599@www.stmarysoschyd.com
SUMMARY:Renewal of the Church
DESCRIPTION:
URL:https://www.stmarysoschyd.com/event/renewal-of-the-church/
END:VEVENT
BEGIN:VEVENT
DTSTART;VALUE=DATE:20231105
DTEND;VALUE=DATE:20231106
DTSTAMP:20260423T201352
CREATED:20230717T022032Z
LAST-MODIFIED:20230717T022032Z
UID:1736-1699142400-1699228799@www.stmarysoschyd.com
SUMMARY:Sanctification of the Church (Koodosh Eetho)
DESCRIPTION:
URL:https://www.stmarysoschyd.com/event/sanctification-of-the-church-koodosh-eetho/
END:VEVENT
BEGIN:VEVENT
DTSTART;VALUE=DATE:20231102
DTEND;VALUE=DATE:20231103
DTSTAMP:20260423T201352
CREATED:20230717T021928Z
LAST-MODIFIED:20230717T021928Z
UID:1734-1698883200-1698969599@www.stmarysoschyd.com
SUMMARY:Feast of St.Gregorious of Parumala
DESCRIPTION:
URL:https://www.stmarysoschyd.com/event/feast-of-st-gregorious-of-parumala/
END:VEVENT
BEGIN:VEVENT
DTSTART;VALUE=DATE:20231029
DTEND;VALUE=DATE:20231030
DTSTAMP:20260423T201352
CREATED:20230717T021834Z
LAST-MODIFIED:20230717T021834Z
UID:1732-1698537600-1698623999@www.stmarysoschyd.com
SUMMARY:7th Sunday After the Feast of the Holy Cross
DESCRIPTION:
URL:https://www.stmarysoschyd.com/event/7th-sunday-after-the-feast-of-the-holy-cross/
END:VEVENT
BEGIN:VEVENT
DTSTART;VALUE=DATE:20231023
DTEND;VALUE=DATE:20231024
DTSTAMP:20260423T201352
CREATED:20230717T021801Z
LAST-MODIFIED:20230717T021801Z
UID:1730-1698019200-1698105599@www.stmarysoschyd.com
SUMMARY:Feast of St. James the Apostle
DESCRIPTION:
URL:https://www.stmarysoschyd.com/event/feast-of-st-james-the-apostle/
END:VEVENT
BEGIN:VEVENT
DTSTART;VALUE=DATE:20231022
DTEND;VALUE=DATE:20231023
DTSTAMP:20260423T201352
CREATED:20230717T021726Z
LAST-MODIFIED:20230717T021726Z
UID:1728-1697932800-1698019199@www.stmarysoschyd.com
SUMMARY:6th Sunday After the Feast of the Holy Cross
DESCRIPTION:
URL:https://www.stmarysoschyd.com/event/6th-sunday-after-the-feast-of-the-holy-cross/
END:VEVENT
BEGIN:VEVENT
DTSTART;VALUE=DATE:20231015
DTEND;VALUE=DATE:20231016
DTSTAMP:20260423T201352
CREATED:20230717T021655Z
LAST-MODIFIED:20230717T021655Z
UID:1726-1697328000-1697414399@www.stmarysoschyd.com
SUMMARY:5th Sunday After the Feast of the Holy Cross
DESCRIPTION:
URL:https://www.stmarysoschyd.com/event/5th-sunday-after-the-feast-of-the-holy-cross/
END:VEVENT
BEGIN:VEVENT
DTSTART;VALUE=DATE:20231008
DTEND;VALUE=DATE:20231009
DTSTAMP:20260423T201352
CREATED:20230717T021618Z
LAST-MODIFIED:20230717T021618Z
UID:1724-1696723200-1696809599@www.stmarysoschyd.com
SUMMARY:4th Sunday After the Feast of the Holy Cross
DESCRIPTION:
URL:https://www.stmarysoschyd.com/event/4th-sunday-after-the-feast-of-the-holy-cross/
END:VEVENT
BEGIN:VEVENT
DTSTART;VALUE=DATE:20231003
DTEND;VALUE=DATE:20231004
DTSTAMP:20260423T201352
CREATED:20230717T021539Z
LAST-MODIFIED:20230717T021539Z
UID:1722-1696291200-1696377599@www.stmarysoschyd.com
SUMMARY:Feast of St.Yeldo Mar Baselios
DESCRIPTION:
URL:https://www.stmarysoschyd.com/event/feast-of-st-yeldo-mar-baselios/
END:VEVENT
BEGIN:VEVENT
DTSTART;VALUE=DATE:20231001
DTEND;VALUE=DATE:20231002
DTSTAMP:20260423T201352
CREATED:20230717T021508Z
LAST-MODIFIED:20230717T021508Z
UID:1720-1696118400-1696204799@www.stmarysoschyd.com
SUMMARY:2nd Sunday After the Feast of the Holy Cross
DESCRIPTION:
URL:https://www.stmarysoschyd.com/event/2nd-sunday-after-the-feast-of-the-holy-cross-2/
END:VEVENT
BEGIN:VEVENT
DTSTART;VALUE=DATE:20230924
DTEND;VALUE=DATE:20230925
DTSTAMP:20260423T201352
CREATED:20230717T021422Z
LAST-MODIFIED:20230717T021422Z
UID:1718-1695513600-1695599999@www.stmarysoschyd.com
SUMMARY:2nd Sunday After the Feast of the Holy Cross
DESCRIPTION:
URL:https://www.stmarysoschyd.com/event/2nd-sunday-after-the-feast-of-the-holy-cross/
END:VEVENT
BEGIN:VEVENT
DTSTART;VALUE=DATE:20230917
DTEND;VALUE=DATE:20230918
DTSTAMP:20260423T201352
CREATED:20230717T021348Z
LAST-MODIFIED:20230717T021348Z
UID:1716-1694908800-1694995199@www.stmarysoschyd.com
SUMMARY:First Sunday After the Feast of the Holy Cross
DESCRIPTION:
URL:https://www.stmarysoschyd.com/event/first-sunday-after-the-feast-of-the-holy-cross/
END:VEVENT
BEGIN:VEVENT
DTSTART;VALUE=DATE:20230914
DTEND;VALUE=DATE:20230915
DTSTAMP:20260423T201352
CREATED:20230717T021314Z
LAST-MODIFIED:20230717T021314Z
UID:1714-1694649600-1694735999@www.stmarysoschyd.com
SUMMARY:Feast of Holy Cross
DESCRIPTION:
URL:https://www.stmarysoschyd.com/event/feast-of-holy-cross/
END:VEVENT
BEGIN:VEVENT
DTSTART;VALUE=DATE:20230910
DTEND;VALUE=DATE:20230911
DTSTAMP:20260423T201352
CREATED:20230717T021250Z
LAST-MODIFIED:20230717T021250Z
UID:1712-1694304000-1694390399@www.stmarysoschyd.com
SUMMARY:4th Sunday After Dormition
DESCRIPTION:
URL:https://www.stmarysoschyd.com/event/4th-sunday-after-dormition/
END:VEVENT
BEGIN:VEVENT
DTSTART;VALUE=DATE:20230903
DTEND;VALUE=DATE:20230904
DTSTAMP:20260423T201352
CREATED:20230717T021216Z
LAST-MODIFIED:20230717T021216Z
UID:1710-1693699200-1693785599@www.stmarysoschyd.com
SUMMARY:3rd Sunday After Dormition
DESCRIPTION:
URL:https://www.stmarysoschyd.com/event/3rd-sunday-after-dormition/
END:VEVENT
END:VCALENDAR